BEGIN:VCALENDAR
VERSION:2.0
PRODID:spatie/icalendar-generator
NAME:Mothers Day Lunch
X-WR-CALNAME:Mothers Day Lunch
DESCRIPTION:Celebrate Mum with a beautiful three‑course lunch in the BMYS
  Clubhouse\, overlooking the bay and surrounded by family. It’s the perf
 ect way to make her feel special.
X-WR-CALDESC:Celebrate Mum with a beautiful three‑course lunch in the BMY
 S Clubhouse\, overlooking the bay and surrounded by family. It’s the per
 fect way to make her feel special.
BEGIN:VTIMEZONE
TZID:Australia/Melbourne
BEGIN:DAYLIGHT
DTSTART:20251005T010000
TZOFFSETFROM:+1000
TZOFFSETTO:+1100
END:DAYLIGHT
BEGIN:STANDARD
DTSTART:20260405T030000
TZOFFSETFROM:+1100
TZOFFSETTO:+1000
END:STANDARD
BEGIN:DAYLIGHT
DTSTART:20261004T010000
TZOFFSETFROM:+1000
TZOFFSETTO:+1100
END:DAYLIGHT
END:VTIMEZONE
BEGIN:VTIMEZONE
TZID:UTC
BEGIN:STANDARD
DTSTART:20250726T031231
TZOFFSETFROM:+0000
TZOFFSETTO:+0000
END:STANDARD
END:VTIMEZONE
BEGIN:VEVENT
UID:69e83c9f48c6d
DTSTAMP:20260422T031231Z
SUMMARY:Mothers Day Lunch
LOCATION:1 Pelican Quays Beaumaris\, Victoria\, 3193
STATUS:CONFIRMED
ORGANIZER;CN=Julie Ahern:MAILTO:social@bmys.com.au
URL:https://portal.bmys.com.au/events/56/show
DTSTART;TZID=Australia/Melbourne:20260510T120000
DTEND;TZID=Australia/Melbourne:20260510T150000
END:VEVENT
END:VCALENDAR