BEGIN:VCALENDAR
VERSION:2.0
PRODID:spatie/icalendar-generator
NAME:The Australian Doors - Live at BMYS
X-WR-CALNAME:The Australian Doors - Live at BMYS
DESCRIPTION:The Australian Doors hits BMYS this June! Expect all of their g
 reatest hits\, played loud!
X-WR-CALDESC:The Australian Doors hits BMYS this June! Expect all of their 
 greatest hits\, played loud!
BEGIN:VTIMEZONE
TZID:Australia/Melbourne
BEGIN:DAYLIGHT
DTSTART:20251005T010000
TZOFFSETFROM:+1000
TZOFFSETTO:+1100
END:DAYLIGHT
BEGIN:STANDARD
DTSTART:20260405T030000
TZOFFSETFROM:+1100
TZOFFSETTO:+1000
END:STANDARD
BEGIN:DAYLIGHT
DTSTART:20261004T010000
TZOFFSETFROM:+1000
TZOFFSETTO:+1100
END:DAYLIGHT
END:VTIMEZONE
BEGIN:VTIMEZONE
TZID:UTC
BEGIN:STANDARD
DTSTART:20250727T232534
TZOFFSETFROM:+0000
TZOFFSETTO:+0000
END:STANDARD
END:VTIMEZONE
BEGIN:VEVENT
UID:69eaaa6e61641
DTSTAMP:20260423T232534Z
SUMMARY:The Australian Doors - Live at BMYS
LOCATION:1 Pelican Quays Beaumaris\, Victoria\, 3193
STATUS:CONFIRMED
ORGANIZER;CN=Alex Henderson:MAILTO:office@bmys.com.au
URL:https://portal.bmys.com.au/events/66/show
DTSTART;TZID=Australia/Melbourne:20260613T183000
DTEND;TZID=Australia/Melbourne:20260613T233000
END:VEVENT
END:VCALENDAR