BEGIN:VCALENDAR
VERSION:2.0
PRODID:spatie/icalendar-generator
NAME:BMYS Car Show 2026
X-WR-CALNAME:BMYS Car Show 2026
DESCRIPTION:Bring your pride and joy and be part of our Car Show at BMYS on
  Sunday 7 June. Great cars\, good food\, and a relaxed day by the water fr
 om 11:00 am to 3:00 pm.
X-WR-CALDESC:Bring your pride and joy and be part of our Car Show at BMYS o
 n Sunday 7 June. Great cars\, good food\, and a relaxed day by the water f
 rom 11:00 am to 3:00 pm.
BEGIN:VTIMEZONE
TZID:Australia/Melbourne
BEGIN:DAYLIGHT
DTSTART:20251005T010000
TZOFFSETFROM:+1000
TZOFFSETTO:+1100
END:DAYLIGHT
BEGIN:STANDARD
DTSTART:20260405T030000
TZOFFSETFROM:+1100
TZOFFSETTO:+1000
END:STANDARD
BEGIN:DAYLIGHT
DTSTART:20261004T010000
TZOFFSETFROM:+1000
TZOFFSETTO:+1100
END:DAYLIGHT
END:VTIMEZONE
BEGIN:VTIMEZONE
TZID:UTC
BEGIN:STANDARD
DTSTART:20250727T232151
TZOFFSETFROM:+0000
TZOFFSETTO:+0000
END:STANDARD
END:VTIMEZONE
BEGIN:VEVENT
UID:69eaa98f45aa2
DTSTAMP:20260423T232151Z
SUMMARY:BMYS Car Show 2026
LOCATION:1 Pelican Quays Beaumaris\, Victoria\, 3193
STATUS:CONFIRMED
ORGANIZER;CN=Jarrad Anderson:MAILTO:jarrad@bmys.com.au
URL:https://portal.bmys.com.au/events/67/show
DTSTART;TZID=Australia/Melbourne:20260607T110000
DTEND;TZID=Australia/Melbourne:20260607T150000
END:VEVENT
END:VCALENDAR